BEGIN:VCALENDAR
VERSION:2.0
PRODID:-//Figl Fan Frastanz - ECPv4.6.8//NONSGML v1.0//EN
CALSCALE:GREGORIAN
METHOD:PUBLISH
X-WR-CALNAME:Figl Fan Frastanz
X-ORIGINAL-URL:http://figlfan.at
X-WR-CALDESC:Events for Figl Fan Frastanz
BEGIN:VEVENT
DTSTART;TZID=Europe/Berlin:20220216T180000
DTEND;TZID=Europe/Berlin:20220216T223000
DTSTAMP:20260422T162327
CREATED:20211120T101319Z
LAST-MODIFIED:20211120T101319Z
UID:2918-1645034400-1645050600@figlfan.at
SUMMARY:Vollmondtour Bazora
DESCRIPTION:
URL:http://figlfan.at/event/vollmondtour-bazora/
LOCATION:Bazora 82\, Frastanz\, Vorarlberg\, 6820\, Österreich
END:VEVENT
END:VCALENDAR