BEGIN:VCALENDAR
VERSION:2.0
PRODID:-//Figl Fan Frastanz - ECPv4.6.8//NONSGML v1.0//EN
CALSCALE:GREGORIAN
METHOD:PUBLISH
X-WR-CALNAME:Figl Fan Frastanz
X-ORIGINAL-URL:http://figlfan.at
X-WR-CALDESC:Events for Figl Fan Frastanz
BEGIN:VEVENT
DTSTART;TZID=Europe/Berlin:20231201T200000
DTEND;TZID=Europe/Berlin:20231201T230000
DTSTAMP:20260422T102547
CREATED:20231123T195814Z
LAST-MODIFIED:20231123T200058Z
UID:3657-1701460800-1701471600@figlfan.at
SUMMARY:Stüble Hock
DESCRIPTION:
URL:http://figlfan.at/event/stueble-hock/
END:VEVENT
END:VCALENDAR