BEGIN:VCALENDAR
VERSION:2.0
PRODID:-//Figl Fan Frastanz - ECPv4.6.8//NONSGML v1.0//EN
CALSCALE:GREGORIAN
METHOD:PUBLISH
X-WR-CALNAME:Figl Fan Frastanz
X-ORIGINAL-URL:http://figlfan.at
X-WR-CALDESC:Events for Figl Fan Frastanz
BEGIN:VEVENT
DTSTART;VALUE=DATE:20240128
DTEND;VALUE=DATE:20240129
DTSTAMP:20260422T054108
CREATED:20231226T093612Z
LAST-MODIFIED:20231226T093612Z
UID:3707-1706400000-1706486399@figlfan.at
SUMMARY:Skitour Hohe Köpfe - Paznauntal
DESCRIPTION:
URL:http://figlfan.at/event/skitour-hohe-koepfe-paznauntal/
CATEGORIES:Touren- und Bergsport
END:VEVENT
END:VCALENDAR