BEGIN:VCALENDAR
VERSION:2.0
PRODID:-//Figl Fan Frastanz - ECPv4.6.8//NONSGML v1.0//EN
CALSCALE:GREGORIAN
METHOD:PUBLISH
X-WR-CALNAME:Figl Fan Frastanz
X-ORIGINAL-URL:http://figlfan.at
X-WR-CALDESC:Events for Figl Fan Frastanz
BEGIN:VEVENT
DTSTART;VALUE=DATE:20121231
DTEND;VALUE=DATE:20130101
DTSTAMP:20260422T223920
CREATED:20121231T120607Z
LAST-MODIFIED:20160905T110754Z
UID:485-1356912000-1356998399@figlfan.at
SUMMARY:Silvestertour 2012
DESCRIPTION:Silvestertour 2012 \nDie traditionelle Silvestertour war wieder ein Supererfolg. Bei Traumwetter trafen sich \n33 Figler bei der Abfahrt beim Gemeindeamt. Die Tour führte vom Wanderparkplatz Lecknertal bei Hittisau kurz über einen Wanderweg ins freie Gelände. Hier trennten sich der Weg für Tourengeher und Wanderer. Bei besten Schneeverhältnissen gings ca. 650 Hm durch Wald und Alpgelände auf ein wunderschönes Plateau das eigentliche Ziel. Bei Sonnenschein und  Pulverschnee ging die Abfahrt über das Ochsenlager zur Alpe Kälberweide wo sich Wanderer  und Torengeher\, die auch über wunderschöne Wanderung berichteten\, wieder trafen. \nBei bester Bewirtung\, sprachen alle über einen schönen Jahresausklang. \nDanke dem Tourenteam um Tourenwart Stefan. \nNach Eintreffen in Frastanz wurde im Dorfkaffee der Jahresausklang gefeiert. \n
URL:http://figlfan.at/event/silvestertour-2012/
CATEGORIES:Touren- und Bergsport
END:VEVENT
END:VCALENDAR