BEGIN:VCALENDAR
VERSION:2.0
PRODID:-//Figl Fan Frastanz - ECPv4.6.8//NONSGML v1.0//EN
CALSCALE:GREGORIAN
METHOD:PUBLISH
X-WR-CALNAME:Figl Fan Frastanz
X-ORIGINAL-URL:http://figlfan.at
X-WR-CALDESC:Events for Figl Fan Frastanz
BEGIN:VEVENT
DTSTART;VALUE=DATE:20101231
DTEND;VALUE=DATE:20110101
DTSTAMP:20260422T175331
CREATED:20101231T120014Z
LAST-MODIFIED:20160907T081632Z
UID:477-1293753600-1293839999@figlfan.at
SUMMARY:Silvestertour 2010 Winterstaude 1.877 m
DESCRIPTION:Silvestertour \nDie Silvestertour 2010 führte auf die 1877 m hohe Winterstaude im Bregenzerwald. Ausgangspunkt war Egg Schetteregg. Bei strahlend blauen Himmel und einer Aufstiegszeit von ca. 2 h konnten die 16 Teilnehmer den herrlichen Rundblick über sämtliche Berggipfel im Ländle und ein Nebelmeer\, das bis weit über den Bodensee hinaus reichte\, genießen. Nach toller Abfahrt wurde in Schetteregg und im Gasthaus Sonne in Frastanz eingekehrt. \nTourenwart Stefan    \n  \n  \n
URL:http://figlfan.at/event/silvestertour-2010-winterstaude-1-877-m/
CATEGORIES:Touren- und Bergsport
END:VEVENT
END:VCALENDAR