BEGIN:VCALENDAR
VERSION:2.0
PRODID:-//Figl Fan Frastanz - ECPv4.6.8//NONSGML v1.0//EN
CALSCALE:GREGORIAN
METHOD:PUBLISH
X-WR-CALNAME:Figl Fan Frastanz
X-ORIGINAL-URL:http://figlfan.at
X-WR-CALDESC:Events for Figl Fan Frastanz
BEGIN:VEVENT
DTSTART;VALUE=DATE:20220327
DTEND;VALUE=DATE:20220328
DTSTAMP:20260422T150521
CREATED:20211120T101512Z
LAST-MODIFIED:20211120T102028Z
UID:2920-1648339200-1648339200@figlfan.at
SUMMARY:Schitour Piz Surgonda Bivio Schweiz
DESCRIPTION:
URL:http://figlfan.at/event/schitour-piz-surgonda-bivio-schweiz/
CATEGORIES:Touren- und Bergsport
END:VEVENT
END:VCALENDAR