BEGIN:VCALENDAR
VERSION:2.0
PRODID:-//Figl Fan Frastanz - ECPv4.6.8//NONSGML v1.0//EN
CALSCALE:GREGORIAN
METHOD:PUBLISH
X-WR-CALNAME:Figl Fan Frastanz
X-ORIGINAL-URL:http://figlfan.at
X-WR-CALDESC:Events for Figl Fan Frastanz
BEGIN:VEVENT
DTSTART;VALUE=DATE:20240317
DTEND;VALUE=DATE:20240318
DTSTAMP:20260421T160750
CREATED:20240126T080833Z
LAST-MODIFIED:20240126T081941Z
UID:3753-1710633600-1710719999@figlfan.at
SUMMARY:Schitour Heimspitze
DESCRIPTION:
URL:http://figlfan.at/event/schitour-heimspitze/
CATEGORIES:Touren- und Bergsport
END:VEVENT
END:VCALENDAR