BEGIN:VCALENDAR
VERSION:2.0
PRODID:-//Figl Fan Frastanz - ECPv4.6.8//NONSGML v1.0//EN
CALSCALE:GREGORIAN
METHOD:PUBLISH
X-WR-CALNAME:Figl Fan Frastanz
X-ORIGINAL-URL:http://figlfan.at
X-WR-CALDESC:Events for Figl Fan Frastanz
BEGIN:VEVENT
DTSTART;VALUE=DATE:20081012
DTEND;VALUE=DATE:20081013
DTSTAMP:20260422T222054
CREATED:20081012T105443Z
LAST-MODIFIED:20160905T105649Z
UID:471-1223769600-1223855999@figlfan.at
SUMMARY:Rundwanderung Guscha in Balzers-Luziensteig
DESCRIPTION:Rundwanderung \n26 Figl Fan trafen sich am 12. Oktober zu einer Wanderung. Mit Privatautos fuhren wir von Frastanz nach Balzers Richtung Luziensteig. Vom Parkplatz direkt neben der Landesstraße wanderten wir in ca. 2\,5 Stunden auf schönen und gut begehbarem Wanderweg auf die Parzelle Guscha. Diese Parzelle war früher ganzjährig bewohnt.  Heute wird nur noch von einem Verein ein Gasthaus erhalten und geführt. Nach einer ausgiebigen Rast in diesem Gasthaus sind wir auf einem anderen Weg (Richtung Luziensteig) wieder ins Tal abgestiegen. Die schöne Wanderung wurde mit einem gemeinsamen Einkehrschwung abgeschlossen. \nHubert Gstach\nFrastanz\, September 2008 \n
URL:http://figlfan.at/event/rundwanderung-guscha-in-balzers-luziensteig/
CATEGORIES:Touren- und Bergsport
END:VEVENT
END:VCALENDAR