BEGIN:VCALENDAR
VERSION:2.0
PRODID:-//Figl Fan Frastanz - ECPv4.6.8//NONSGML v1.0//EN
CALSCALE:GREGORIAN
METHOD:PUBLISH
X-WR-CALNAME:Figl Fan Frastanz
X-ORIGINAL-URL:http://figlfan.at
X-WR-CALDESC:Events for Figl Fan Frastanz
BEGIN:VEVENT
DTSTART;VALUE=DATE:20240316
DTEND;VALUE=DATE:20240317
DTSTAMP:20260421T160750
CREATED:20240126T080726Z
LAST-MODIFIED:20240126T081953Z
UID:3749-1710547200-1710633599@figlfan.at
SUMMARY:Oberöster. Figl+Shorty MS - Postalm
DESCRIPTION:
URL:http://figlfan.at/event/oberoester-figlshorty-ms-postalm/
CATEGORIES:Rennlauf
END:VEVENT
END:VCALENDAR