BEGIN:VCALENDAR
VERSION:2.0
PRODID:-//Figl Fan Frastanz - ECPv4.6.8//NONSGML v1.0//EN
CALSCALE:GREGORIAN
METHOD:PUBLISH
X-WR-CALNAME:Figl Fan Frastanz
X-ORIGINAL-URL:http://figlfan.at
X-WR-CALDESC:Events for Figl Fan Frastanz
BEGIN:VEVENT
DTSTART;VALUE=DATE:20240224
DTEND;VALUE=DATE:20240225
DTSTAMP:20260422T023104
CREATED:20240126T080105Z
LAST-MODIFIED:20240126T082034Z
UID:3735-1708732800-1708819199@figlfan.at
SUMMARY:Mondscheintour
DESCRIPTION:
URL:http://figlfan.at/event/mondscheintour/
CATEGORIES:Touren- und Bergsport
END:VEVENT
END:VCALENDAR