BEGIN:VCALENDAR
VERSION:2.0
PRODID:-//Figl Fan Frastanz - ECPv4.6.8//NONSGML v1.0//EN
CALSCALE:GREGORIAN
METHOD:PUBLISH
X-WR-CALNAME:Figl Fan Frastanz
X-ORIGINAL-URL:http://figlfan.at
X-WR-CALDESC:Events for Figl Fan Frastanz
BEGIN:VEVENT
DTSTART;VALUE=DATE:20240113
DTEND;VALUE=DATE:20240114
DTSTAMP:20260422T071932
CREATED:20231226T093500Z
LAST-MODIFIED:20231226T093500Z
UID:3705-1705104000-1705190399@figlfan.at
SUMMARY:LVS Übung auf Bazora
DESCRIPTION:
URL:http://figlfan.at/event/lvs-uebung-auf-bazora/
END:VEVENT
END:VCALENDAR