BEGIN:VCALENDAR
VERSION:2.0
PRODID:-//Figl Fan Frastanz - ECPv4.6.8//NONSGML v1.0//EN
CALSCALE:GREGORIAN
METHOD:PUBLISH
X-WR-CALNAME:Figl Fan Frastanz
X-ORIGINAL-URL:http://figlfan.at
X-WR-CALDESC:Events for Figl Fan Frastanz
BEGIN:VEVENT
DTSTART;VALUE=DATE:20100109
DTEND;VALUE=DATE:20100110
DTSTAMP:20260422T191911
CREATED:20100109T115825Z
LAST-MODIFIED:20160905T105937Z
UID:475-1262995200-1263081599@figlfan.at
SUMMARY:Lawinen – Suchgeräte Übung 2010
DESCRIPTION:Lawinen-Suchgeräteübung \nAuch 2010 führten die Tourengruppe der Figl Fan Frastanz um Merz Stefan am 09.01.2010 auf der Bazora eine „Suchgeräte – Übung“ durch. Die Tour ging vom Gemeindeamt über Frastafeders\, den Bazorahang zur Schihütte. Hier wurde die eigentliche Übung durchführt. Nach einer Schulung im Seminarraum der Skihütte konnten die 12 Teilnehmer die LVS Geräte in der Praxis ausprobieren. So wurden LVS Geräte im Schnee vergraben\,  von Teams mit Suchgeräten geortet und anschließen mit der Bergeschaufel ausgegraben. Trotz starken Nebel konnten alle Geräte geortet und zugeordnet werden. Laut Teilnehmern war die Veranstaltung ein großer Erfolg. \nHier ein ganz besonderer Dank dem Verantwortlichen der Tourengruppe Stefan Merz. \nDer Vorstand\nFrastanz\, Jänner 2010 \n
URL:http://figlfan.at/event/lawinen-suchgeraete-uebung-2010/
CATEGORIES:Touren- und Bergsport
END:VEVENT
END:VCALENDAR