BEGIN:VCALENDAR
VERSION:2.0
PRODID:-//Figl Fan Frastanz - ECPv4.6.8//NONSGML v1.0//EN
CALSCALE:GREGORIAN
METHOD:PUBLISH
X-WR-CALNAME:Figl Fan Frastanz
X-ORIGINAL-URL:http://figlfan.at
X-WR-CALDESC:Events for Figl Fan Frastanz
BEGIN:VEVENT
DTSTART;VALUE=DATE:20090103
DTEND;VALUE=DATE:20090104
DTSTAMP:20260422T222513
CREATED:20090905T105657Z
LAST-MODIFIED:20160905T105819Z
UID:473-1230940800-1231027199@figlfan.at
SUMMARY:Lawinen – Suchgeräte Übung 2009
DESCRIPTION:Lawinen-Suchgeräteübung \nUm den Umgang mit den LVS – Gerät wieder mal zu trainieren\, führten die Tourengruppe der Figl Fan Frastanz um Merz Stefan am 03.01.08 auf der Bazora eine „Suchgeräte – Übung“ durch. Vom Gemeindeamt gings über Frastafeders\, den Bazorahang zur Schihütte. Hier wurde die eigentliche Übung durchführt. LVS Geräte wurden im Schnee vergraben\, diese mussten von Teams mit Suchgeräten geortet und anschließen mit der Bergeschaufel ausgegraben werden. Mit 16 Teilnehmern war die Veranstaltung ein großer Erfolg\, es konnten alle Geräte geortet und zugeordnet werden. Hier ein ganz besonderer Dank den Verantwortlichen der Tourengruppe um Stefan Merz \nDer Vorstand \nFrastanz\, Jänner 2009 \n
URL:http://figlfan.at/event/lawinen-suchgeraete-uebung-2009/
CATEGORIES:Touren- und Bergsport
END:VEVENT
END:VCALENDAR