BEGIN:VCALENDAR
VERSION:2.0
PRODID:-//Figl Fan Frastanz - ECPv4.6.8//NONSGML v1.0//EN
CALSCALE:GREGORIAN
METHOD:PUBLISH
X-WR-CALNAME:Figl Fan Frastanz
X-ORIGINAL-URL:http://figlfan.at
X-WR-CALDESC:Events for Figl Fan Frastanz
BEGIN:VEVENT
DTSTART;VALUE=DATE:20220313
DTEND;VALUE=DATE:20220314
DTSTAMP:20260422T150521
CREATED:20211119T113513Z
LAST-MODIFIED:20211119T113513Z
UID:2896-1647129600-1647129600@figlfan.at
SUMMARY:Landesmeisterschaft 2022
DESCRIPTION:
URL:http://figlfan.at/event/landesmeisterschaft-2022/
LOCATION:Bazora 82\, Frastanz\, Vorarlberg\, 6820\, Österreich
END:VEVENT
END:VCALENDAR