BEGIN:VCALENDAR
VERSION:2.0
PRODID:-//Figl Fan Frastanz - ECPv4.6.8//NONSGML v1.0//EN
CALSCALE:GREGORIAN
METHOD:PUBLISH
X-WR-CALNAME:Figl Fan Frastanz
X-ORIGINAL-URL:http://figlfan.at
X-WR-CALDESC:Events for Figl Fan Frastanz
BEGIN:VEVENT
DTSTART;VALUE=DATE:20220320
DTEND;VALUE=DATE:20220321
DTSTAMP:20260422T133301
CREATED:20211120T095642Z
LAST-MODIFIED:20211120T095642Z
UID:2900-1647734400-1647820799@figlfan.at
SUMMARY:Figl Fan Vereinsmeisterschaft 2022
DESCRIPTION:
URL:http://figlfan.at/event/figl-fan-vereinsmeisterschaft-2022/
CATEGORIES:Rennlauf
END:VEVENT
END:VCALENDAR