BEGIN:VCALENDAR
VERSION:2.0
PRODID:-//Figl Fan Frastanz - ECPv4.6.8//NONSGML v1.0//EN
CALSCALE:GREGORIAN
METHOD:PUBLISH
X-WR-CALNAME:Figl Fan Frastanz
X-ORIGINAL-URL:http://figlfan.at
X-WR-CALDESC:Events for Figl Fan Frastanz
BEGIN:VEVENT
DTSTART;VALUE=DATE:20240302
DTEND;VALUE=DATE:20240303
DTSTAMP:20260421T215617
CREATED:20240126T080355Z
LAST-MODIFIED:20240126T082018Z
UID:3741-1709337600-1709423999@figlfan.at
SUMMARY:Figl Europameisterschaften Imst
DESCRIPTION:
URL:http://figlfan.at/event/figl-europameisterschaften-imst/
CATEGORIES:Rennlauf
END:VEVENT
END:VCALENDAR