BEGIN:VCALENDAR
VERSION:2.0
PRODID:-//Figl Fan Frastanz - ECPv4.6.8//NONSGML v1.0//EN
CALSCALE:GREGORIAN
METHOD:PUBLISH
X-WR-CALNAME:Figl Fan Frastanz
X-ORIGINAL-URL:http://figlfan.at
X-WR-CALDESC:Events for Figl Fan Frastanz
BEGIN:VEVENT
DTSTART;VALUE=DATE:20220515
DTEND;VALUE=DATE:20220516
DTSTAMP:20260422T120104
CREATED:20211120T100000Z
LAST-MODIFIED:20211120T100000Z
UID:2903-1652572800-1652659199@figlfan.at
SUMMARY:50 Jahre Figl Fan Gamprennen
DESCRIPTION:
URL:http://figlfan.at/event/50-jahre-figl-fan-gamprennen/
CATEGORIES:Rennlauf
END:VEVENT
END:VCALENDAR