BEGIN:VCALENDAR
VERSION:2.0
PRODID:-//Figl Fan Frastanz - ECPv4.6.8//NONSGML v1.0//EN
CALSCALE:GREGORIAN
METHOD:PUBLISH
X-WR-CALNAME:Figl Fan Frastanz
X-ORIGINAL-URL:http://figlfan.at
X-WR-CALDESC:Events for Figl Fan Frastanz
BEGIN:VEVENT
DTSTART;VALUE=DATE:20220410
DTEND;VALUE=DATE:20220411
DTSTAMP:20260422T132233
CREATED:20211120T101820Z
LAST-MODIFIED:20211120T101820Z
UID:2925-1649548800-1649635199@figlfan.at
SUMMARY:2 tägige Schitour Breiter Grieskogel Ötztal
DESCRIPTION:
URL:http://figlfan.at/event/2-taegige-schitour-breiter-grieskogel-oetztal-2/
END:VEVENT
END:VCALENDAR